BEGIN:VCALENDAR
VERSION:2.0
PRODID:-//Goldgrube//myauktion.com//AT
CALSCALE:GREGORIAN
BEGIN:VEVENT
DTSTART:20260506T135700
DTEND:20260506T135730
LOCATION:Gewerbepark 13, 8562 Mooskirchen
DTSTAMP:20260423T012002
SUMMARY:MyAuktion: Ablauf Artikel Nr. 957915 MID.YOU 101.6/76/40cm Schreibtisch 28580035-01
URL;VALUE=URI:https://www.myauktion.com/versteigerung7660-position2443344-midyou-1016-76-40cm-schreibtisch-28580035-01.php
DESCRIPTION:1/1 
UID:myauktion-7660-2443344
BEGIN:VALARM
ACTION:DISPLAY
DESCRIPTION:1/1 
TRIGGER:-PT10M
END:VALARM
END:VEVENT
END:VCALENDAR