BEGIN:VCALENDAR
VERSION:2.0
PRODID:-//Goldgrube//myauktion.com//AT
CALSCALE:GREGORIAN
BEGIN:VEVENT
DTSTART:20260506T132100
DTEND:20260506T132130
LOCATION:Gewerbepark 13, 8562 Mooskirchen
DTSTAMP:20260423T012001
SUMMARY:MyAuktion: Ablauf Artikel Nr. 957196 Ikea Regal Smågöra
URL;VALUE=URI:https://www.myauktion.com/versteigerung7660-position2443347-ikea-regal-smgoera.php
DESCRIPTION:29×88cm 
UID:myauktion-7660-2443347
BEGIN:VALARM
ACTION:DISPLAY
DESCRIPTION:29×88cm 
TRIGGER:-PT10M
END:VALARM
END:VEVENT
END:VCALENDAR