BEGIN:VCALENDAR
VERSION:2.0
PRODID:-//Goldgrube//myauktion.com//AT
CALSCALE:GREGORIAN
BEGIN:VEVENT
DTSTART:20260506T143100
DTEND:20260506T143130
LOCATION:Gewerbepark 13, 8562 Mooskirchen
DTSTAMP:20260423T041112
SUMMARY:MyAuktion: Ablauf Artikel Nr. 958021 Orbea MX24XC MAN-BL Kinder Mountain Bike orange 
URL;VALUE=URI:https://www.myauktion.com/versteigerung7660-position2443348-orbea-mx24xc-man-bl-kinder-mountain-bike-orange.php
DESCRIPTION:Rahmengröße ca. 30cm 
UID:myauktion-7660-2443348
BEGIN:VALARM
ACTION:DISPLAY
DESCRIPTION:Rahmengröße ca. 30cm 
TRIGGER:-PT10M
END:VALARM
END:VEVENT
END:VCALENDAR