BEGIN:VCALENDAR
VERSION:2.0
PRODID:-//Goldgrube//myauktion.com//AT
CALSCALE:GREGORIAN
BEGIN:VEVENT
DTSTART:20260506T132200
DTEND:20260506T132230
LOCATION:Gewerbepark 13, 8562 Mooskirchen
DTSTAMP:20260422T233755
SUMMARY:MyAuktion: Ablauf Artikel Nr. 957197 Baumkante Brett Adriana Akazie (Nuss)
URL;VALUE=URI:https://www.myauktion.com/versteigerung7660-position2443351-baumkante-brett-adriana-akazie-nuss.php
DESCRIPTION:200×40cm, Art.No. 89249
UID:myauktion-7660-2443351
BEGIN:VALARM
ACTION:DISPLAY
DESCRIPTION:200×40cm, Art.No. 89249
TRIGGER:-PT10M
END:VALARM
END:VEVENT
END:VCALENDAR