BEGIN:VCALENDAR
VERSION:2.0
PRODID:-//Goldgrube//myauktion.com//AT
CALSCALE:GREGORIAN
BEGIN:VEVENT
DTSTART:20260506T143200
DTEND:20260506T143230
LOCATION:Gewerbepark 13, 8562 Mooskirchen
DTSTAMP:20260423T012000
SUMMARY:MyAuktion: Ablauf Artikel Nr. 958022 Beliani Tisch "Dacoma" 
URL;VALUE=URI:https://www.myauktion.com/versteigerung7660-position2443352-beliani-tisch-34dacoma-34.php
DESCRIPTION:Paket 1/2 (nur Tischplatte) 
UID:myauktion-7660-2443352
BEGIN:VALARM
ACTION:DISPLAY
DESCRIPTION:Paket 1/2 (nur Tischplatte) 
TRIGGER:-PT10M
END:VALARM
END:VEVENT
END:VCALENDAR