BEGIN:VCALENDAR
VERSION:2.0
PRODID:-//Goldgrube//myauktion.com//AT
CALSCALE:GREGORIAN
BEGIN:VEVENT
DTSTART:20260506T132300
DTEND:20260506T132330
LOCATION:Gewerbepark 13, 8562 Mooskirchen
DTSTAMP:20260423T012001
SUMMARY:MyAuktion: Ablauf Artikel Nr. 957198 Esstisch mit 1 Schubkasten
URL;VALUE=URI:https://www.myauktion.com/versteigerung7660-position2443353-esstisch-mit-1-schubkasten.php
DESCRIPTION:Model Oslo 81A, Paket 1/1
UID:myauktion-7660-2443353
BEGIN:VALARM
ACTION:DISPLAY
DESCRIPTION:Model Oslo 81A, Paket 1/1
TRIGGER:-PT10M
END:VALARM
END:VEVENT
END:VCALENDAR