BEGIN:VCALENDAR
VERSION:2.0
PRODID:-//Goldgrube//myauktion.com//AT
CALSCALE:GREGORIAN
BEGIN:VEVENT
DTSTART:20260506T143300
DTEND:20260506T143330
LOCATION:Gewerbepark 13, 8562 Mooskirchen
DTSTAMP:20260423T011955
SUMMARY:MyAuktion: Ablauf Artikel Nr. 958023 Jelmoli Chronos TV-Board 9422 weiß
URL;VALUE=URI:https://www.myauktion.com/versteigerung7660-position2443354-jelmoli-chronos-tv-board-9422-weiss.php
DESCRIPTION:Paket 1/2 nicht vollständig 
UID:myauktion-7660-2443354
BEGIN:VALARM
ACTION:DISPLAY
DESCRIPTION:Paket 1/2 nicht vollständig 
TRIGGER:-PT10M
END:VALARM
END:VEVENT
END:VCALENDAR