BEGIN:VCALENDAR
VERSION:2.0
PRODID:-//Goldgrube//myauktion.com//AT
CALSCALE:GREGORIAN
BEGIN:VEVENT
DTSTART:20260506T140200
DTEND:20260506T140230
LOCATION:Gewerbepark 13, 8562 Mooskirchen
DTSTAMP:20260423T011959
SUMMARY:MyAuktion: Ablauf Artikel Nr. 957918 IKEA Lindbaden 90x200cm 705.531.82 .Lattenrost  
URL;VALUE=URI:https://www.myauktion.com/versteigerung7660-position2443355-ikea-lindbaden-90x200cm-70553182-lattenrost.php
DESCRIPTION:
UID:myauktion-7660-2443355
BEGIN:VALARM
ACTION:DISPLAY
DESCRIPTION:
TRIGGER:-PT10M
END:VALARM
END:VEVENT
END:VCALENDAR