BEGIN:VCALENDAR
VERSION:2.0
PRODID:-//Goldgrube//myauktion.com//AT
CALSCALE:GREGORIAN
BEGIN:VEVENT
DTSTART:20260506T140300
DTEND:20260506T140330
LOCATION:Gewerbepark 13, 8562 Mooskirchen
DTSTAMP:20260423T011957
SUMMARY:MyAuktion: Ablauf Artikel Nr. 957919 Puzzle Glue 70ml 
URL;VALUE=URI:https://www.myauktion.com/versteigerung7660-position2443357-puzzle-glue-70ml.php
DESCRIPTION:
UID:myauktion-7660-2443357
BEGIN:VALARM
ACTION:DISPLAY
DESCRIPTION:
TRIGGER:-PT10M
END:VALARM
END:VEVENT
END:VCALENDAR