BEGIN:VCALENDAR
VERSION:2.0
PRODID:-//Goldgrube//myauktion.com//AT
CALSCALE:GREGORIAN
BEGIN:VEVENT
DTSTART:20260506T143900
DTEND:20260506T143930
LOCATION:Gewerbepark 13, 8562 Mooskirchen
DTSTAMP:20260423T002503
SUMMARY:MyAuktion: Ablauf Artikel Nr. 958025 AEG CX7 Öko x Flexibility Staubsauger 
URL;VALUE=URI:https://www.myauktion.com/versteigerung7660-position2443358-aeg-cx7-ko-x-flexibility-staubsauger.php
DESCRIPTION:Verpackung beschädigt 
UID:myauktion-7660-2443358
BEGIN:VALARM
ACTION:DISPLAY
DESCRIPTION:Verpackung beschädigt 
TRIGGER:-PT10M
END:VALARM
END:VEVENT
END:VCALENDAR