BEGIN:VCALENDAR
VERSION:2.0
PRODID:-//Goldgrube//myauktion.com//AT
CALSCALE:GREGORIAN
BEGIN:VEVENT
DTSTART:20260506T132400
DTEND:20260506T132430
LOCATION:Gewerbepark 13, 8562 Mooskirchen
DTSTAMP:20260423T011958
SUMMARY:MyAuktion: Ablauf Artikel Nr. 957199 Entrado Fußmatte 90×300cm 
URL;VALUE=URI:https://www.myauktion.com/versteigerung7660-position2443359-entrado-fussmatte-90300cm.php
DESCRIPTION:
UID:myauktion-7660-2443359
BEGIN:VALARM
ACTION:DISPLAY
DESCRIPTION:
TRIGGER:-PT10M
END:VALARM
END:VEVENT
END:VCALENDAR