BEGIN:VCALENDAR
VERSION:2.0
PRODID:-//Goldgrube//myauktion.com//AT
CALSCALE:GREGORIAN
BEGIN:VEVENT
DTSTART:20260506T144000
DTEND:20260506T144030
LOCATION:Gewerbepark 13, 8562 Mooskirchen
DTSTAMP:20260422T233756
SUMMARY:MyAuktion: Ablauf Artikel Nr. 958026 Behringer Xenxy X1204USB Premium 12Input 2/2 Bus Mixer with Xenyx Mic Preamps & Compressors 
URL;VALUE=URI:https://www.myauktion.com/versteigerung7660-position2443360-behringer-xenxy-x1204usb-premium-12input-2-2-bus-mixer-with-xenyx-mic-preamps-38-compressors.php
DESCRIPTION:
UID:myauktion-7660-2443360
BEGIN:VALARM
ACTION:DISPLAY
DESCRIPTION:
TRIGGER:-PT10M
END:VALARM
END:VEVENT
END:VCALENDAR