BEGIN:VCALENDAR
VERSION:2.0
PRODID:-//Goldgrube//myauktion.com//AT
CALSCALE:GREGORIAN
BEGIN:VEVENT
DTSTART:20260506T144200
DTEND:20260506T144230
LOCATION:Gewerbepark 13, 8562 Mooskirchen
DTSTAMP:20260422T224015
SUMMARY:MyAuktion: Ablauf Artikel Nr. 958028 Actongroup Adisa Barhocker Sitz graubraun Basel 34 Gestell Metall matt schwarz 2er Set 346339 
URL;VALUE=URI:https://www.myauktion.com/versteigerung7660-position2443363-actongroup-adisa-barhocker-sitz-graubraun-basel-34-gestell-metall-matt-schwarz-2er-set-346339.php
DESCRIPTION:
UID:myauktion-7660-2443363
BEGIN:VALARM
ACTION:DISPLAY
DESCRIPTION:
TRIGGER:-PT10M
END:VALARM
END:VEVENT
END:VCALENDAR