BEGIN:VCALENDAR
VERSION:2.0
PRODID:-//Goldgrube//myauktion.com//AT
CALSCALE:GREGORIAN
BEGIN:VEVENT
DTSTART:20260506T144300
DTEND:20260506T144330
LOCATION:Gewerbepark 13, 8562 Mooskirchen
DTSTAMP:20260422T224015
SUMMARY:MyAuktion: Ablauf Artikel Nr. 958029 Tefal Dual Easy Fry&Grill 5,2L + 3,1L 
URL;VALUE=URI:https://www.myauktion.com/versteigerung7660-position2443365-tefal-dual-easy-fry-38grill-52l-31l.php
DESCRIPTION:
UID:myauktion-7660-2443365
BEGIN:VALARM
ACTION:DISPLAY
DESCRIPTION:
TRIGGER:-PT10M
END:VALARM
END:VEVENT
END:VCALENDAR