BEGIN:VCALENDAR
VERSION:2.0
PRODID:-//Goldgrube//myauktion.com//AT
CALSCALE:GREGORIAN
BEGIN:VEVENT
DTSTART:20260506T144400
DTEND:20260506T144430
LOCATION:Gewerbepark 13, 8562 Mooskirchen
DTSTAMP:20260422T224014
SUMMARY:MyAuktion: Ablauf Artikel Nr. 958030 Dell Monitor P2314H 
URL;VALUE=URI:https://www.myauktion.com/versteigerung7660-position2443366-dell-monitor-p2314h.php
DESCRIPTION:Gebraucht, Funktion nicht getestet 
UID:myauktion-7660-2443366
BEGIN:VALARM
ACTION:DISPLAY
DESCRIPTION:Gebraucht, Funktion nicht getestet 
TRIGGER:-PT10M
END:VALARM
END:VEVENT
END:VCALENDAR