BEGIN:VCALENDAR
VERSION:2.0
PRODID:-//Goldgrube//myauktion.com//AT
CALSCALE:GREGORIAN
BEGIN:VEVENT
DTSTART:20260506T153200
DTEND:20260506T153230
LOCATION:Gewerbepark 13, 8562 Mooskirchen
DTSTAMP:20260423T041111
SUMMARY:MyAuktion: Ablauf Artikel Nr. 958401 Uvex Skihelm 51-55cm Art.No. S5663152403
URL;VALUE=URI:https://www.myauktion.com/versteigerung7660-position2443368-uvex-skihelm-51-55cm-artno-s5663152403.php
DESCRIPTION:
UID:myauktion-7660-2443368
BEGIN:VALARM
ACTION:DISPLAY
DESCRIPTION:
TRIGGER:-PT10M
END:VALARM
END:VEVENT
END:VCALENDAR