BEGIN:VCALENDAR
VERSION:2.0
PRODID:-//Goldgrube//myauktion.com//AT
CALSCALE:GREGORIAN
BEGIN:VEVENT
DTSTART:20260506T144600
DTEND:20260506T144630
LOCATION:Gewerbepark 13, 8562 Mooskirchen
DTSTAMP:20260423T012002
SUMMARY:MyAuktion: Ablauf Artikel Nr. 958032 Ikea Linnmon 100x60cm + 2x Ikea Adils 
URL;VALUE=URI:https://www.myauktion.com/versteigerung7660-position2443369-ikea-linnmon-100x60cm-2x-ikea-adils.php
DESCRIPTION:
UID:myauktion-7660-2443369
BEGIN:VALARM
ACTION:DISPLAY
DESCRIPTION:
TRIGGER:-PT10M
END:VALARM
END:VEVENT
END:VCALENDAR