BEGIN:VCALENDAR
VERSION:2.0
PRODID:-//Goldgrube//myauktion.com//AT
CALSCALE:GREGORIAN
BEGIN:VEVENT
DTSTART:20260506T144700
DTEND:20260506T144730
LOCATION:Gewerbepark 13, 8562 Mooskirchen
DTSTAMP:20260423T012001
SUMMARY:MyAuktion: Ablauf Artikel Nr. 958033 Mömax Stuhl "Fabio" grau 10780045/05 
URL;VALUE=URI:https://www.myauktion.com/versteigerung7660-position2443372-moemax-stuhl-34fabio-34-grau-10780045-05.php
DESCRIPTION:
UID:myauktion-7660-2443372
BEGIN:VALARM
ACTION:DISPLAY
DESCRIPTION:
TRIGGER:-PT10M
END:VALARM
END:VEVENT
END:VCALENDAR