BEGIN:VCALENDAR
VERSION:2.0
PRODID:-//Goldgrube//myauktion.com//AT
CALSCALE:GREGORIAN
BEGIN:VEVENT
DTSTART:20260506T145100
DTEND:20260506T145130
LOCATION:Gewerbepark 13, 8562 Mooskirchen
DTSTAMP:20260423T012002
SUMMARY:MyAuktion: Ablauf Artikel Nr. 958036 Lego City 60215 5+ 
URL;VALUE=URI:https://www.myauktion.com/versteigerung7660-position2443376-lego-city-60215-5-.php
DESCRIPTION:Gebraucht, Vollständigkeit nicht geprüft
UID:myauktion-7660-2443376
BEGIN:VALARM
ACTION:DISPLAY
DESCRIPTION:Gebraucht, Vollständigkeit nicht geprüft
TRIGGER:-PT10M
END:VALARM
END:VEVENT
END:VCALENDAR