BEGIN:VCALENDAR
VERSION:2.0
PRODID:-//Goldgrube//myauktion.com//AT
CALSCALE:GREGORIAN
BEGIN:VEVENT
DTSTART:20260506T145200
DTEND:20260506T145230
LOCATION:Gewerbepark 13, 8562 Mooskirchen
DTSTAMP:20260423T012002
SUMMARY:MyAuktion: Ablauf Artikel Nr. 958037 Lego City 60233 6+ 
URL;VALUE=URI:https://www.myauktion.com/versteigerung7660-position2443377-lego-city-60233-6-.php
DESCRIPTION:Gebraucht, Vollständigkeit nicht geprüft
UID:myauktion-7660-2443377
BEGIN:VALARM
ACTION:DISPLAY
DESCRIPTION:Gebraucht, Vollständigkeit nicht geprüft
TRIGGER:-PT10M
END:VALARM
END:VEVENT
END:VCALENDAR