BEGIN:VCALENDAR
VERSION:2.0
PRODID:-//Goldgrube//myauktion.com//AT
CALSCALE:GREGORIAN
BEGIN:VEVENT
DTSTART:20260506T140900
DTEND:20260506T140930
LOCATION:Gewerbepark 13, 8562 Mooskirchen
DTSTAMP:20260423T011958
SUMMARY:MyAuktion: Ablauf Artikel Nr. 957923 Diverse Stoßdämpfer LPN WE 31586 7500 2Stk 
URL;VALUE=URI:https://www.myauktion.com/versteigerung7660-position2443378-diverse-stossdaempfer-lpn-we-31586-7500-2stk.php
DESCRIPTION:
UID:myauktion-7660-2443378
BEGIN:VALARM
ACTION:DISPLAY
DESCRIPTION:
TRIGGER:-PT10M
END:VALARM
END:VEVENT
END:VCALENDAR