BEGIN:VCALENDAR
VERSION:2.0
PRODID:-//Goldgrube//myauktion.com//AT
CALSCALE:GREGORIAN
BEGIN:VEVENT
DTSTART:20260506T141000
DTEND:20260506T141030
LOCATION:Gewerbepark 13, 8562 Mooskirchen
DTSTAMP:20260423T012001
SUMMARY:MyAuktion: Ablauf Artikel Nr. 957924 Fygurso Play Hous Toys ab 3 Jahren 
URL;VALUE=URI:https://www.myauktion.com/versteigerung7660-position2443380-fygurso-play-hous-toys-ab-3-jahren.php
DESCRIPTION:
UID:myauktion-7660-2443380
BEGIN:VALARM
ACTION:DISPLAY
DESCRIPTION:
TRIGGER:-PT10M
END:VALARM
END:VEVENT
END:VCALENDAR