BEGIN:VCALENDAR
VERSION:2.0
PRODID:-//Goldgrube//myauktion.com//AT
CALSCALE:GREGORIAN
BEGIN:VEVENT
DTSTART:20260506T141100
DTEND:20260506T141130
LOCATION:Gewerbepark 13, 8562 Mooskirchen
DTSTAMP:20260422T224015
SUMMARY:MyAuktion: Ablauf Artikel Nr. 957925 Cool Maker Self Clasping Studio ab 7 Jahren 
URL;VALUE=URI:https://www.myauktion.com/versteigerung7660-position2443382-cool-maker-self-clasping-studio-ab-7-jahren.php
DESCRIPTION:
UID:myauktion-7660-2443382
BEGIN:VALARM
ACTION:DISPLAY
DESCRIPTION:
TRIGGER:-PT10M
END:VALARM
END:VEVENT
END:VCALENDAR