BEGIN:VCALENDAR
VERSION:2.0
PRODID:-//Goldgrube//myauktion.com//AT
CALSCALE:GREGORIAN
BEGIN:VEVENT
DTSTART:20260506T153500
DTEND:20260506T153530
LOCATION:Gewerbepark 13, 8562 Mooskirchen
DTSTAMP:20260423T041112
SUMMARY:MyAuktion: Ablauf Artikel Nr. 958404 Beliani Wanduhr ca 60×46cm
URL;VALUE=URI:https://www.myauktion.com/versteigerung7660-position2443384-beliani-wanduhr-ca-6046cm.php
DESCRIPTION:
UID:myauktion-7660-2443384
BEGIN:VALARM
ACTION:DISPLAY
DESCRIPTION:
TRIGGER:-PT10M
END:VALARM
END:VEVENT
END:VCALENDAR