BEGIN:VCALENDAR
VERSION:2.0
PRODID:-//Goldgrube//myauktion.com//AT
CALSCALE:GREGORIAN
BEGIN:VEVENT
DTSTART:20260506T145400
DTEND:20260506T145430
LOCATION:Gewerbepark 13, 8562 Mooskirchen
DTSTAMP:20260423T012002
SUMMARY:MyAuktion: Ablauf Artikel Nr. 958039 Mid.you Stuhl "Lijan" Beige/creme  
URL;VALUE=URI:https://www.myauktion.com/versteigerung7660-position2443385-midyou-stuhl-34lijan-34-beige-creme.php
DESCRIPTION:
UID:myauktion-7660-2443385
BEGIN:VALARM
ACTION:DISPLAY
DESCRIPTION:
TRIGGER:-PT10M
END:VALARM
END:VEVENT
END:VCALENDAR