BEGIN:VCALENDAR
VERSION:2.0
PRODID:-//Goldgrube//myauktion.com//AT
CALSCALE:GREGORIAN
BEGIN:VEVENT
DTSTART:20260506T141300
DTEND:20260506T141330
LOCATION:Gewerbepark 13, 8562 Mooskirchen
DTSTAMP:20260423T012002
SUMMARY:MyAuktion: Ablauf Artikel Nr. 957927 Geisterhaus Thailand ca 80cm aus Holz 
URL;VALUE=URI:https://www.myauktion.com/versteigerung7660-position2443387-geisterhaus-thailand-ca-80cm-aus-holz.php
DESCRIPTION:Beschädigt 
UID:myauktion-7660-2443387
BEGIN:VALARM
ACTION:DISPLAY
DESCRIPTION:Beschädigt 
TRIGGER:-PT10M
END:VALARM
END:VEVENT
END:VCALENDAR