BEGIN:VCALENDAR
VERSION:2.0
PRODID:-//Goldgrube//myauktion.com//AT
CALSCALE:GREGORIAN
BEGIN:VEVENT
DTSTART:20260506T153600
DTEND:20260506T153630
LOCATION:Gewerbepark 13, 8562 Mooskirchen
DTSTAMP:20260423T041110
SUMMARY:MyAuktion: Ablauf Artikel Nr. 958405 Diverse Stahlschiene mit Bohrungen ca 83×4×1,5cm
URL;VALUE=URI:https://www.myauktion.com/versteigerung7660-position2443388-diverse-stahlschiene-mit-bohrungen-ca-83415cm.php
DESCRIPTION:
UID:myauktion-7660-2443388
BEGIN:VALARM
ACTION:DISPLAY
DESCRIPTION:
TRIGGER:-PT10M
END:VALARM
END:VEVENT
END:VCALENDAR