BEGIN:VCALENDAR
VERSION:2.0
PRODID:-//Goldgrube//myauktion.com//AT
CALSCALE:GREGORIAN
BEGIN:VEVENT
DTSTART:20260506T150000
DTEND:20260506T150030
LOCATION:Gewerbepark 13, 8562 Mooskirchen
DTSTAMP:20260423T041112
SUMMARY:MyAuktion: Ablauf Artikel Nr. 958042 Multi-Stauraum Kommode weiß S588-KOM2D2S/80/11/40BI-FMIX70-KOR+AKC01 
URL;VALUE=URI:https://www.myauktion.com/versteigerung7660-position2443392-multi-stauraum-kommode-weiss-s588-kom2d2s-80-11-40bi-fmix70-kor-akc01.php
DESCRIPTION:Paket 1/2 nicht vollständig!!
UID:myauktion-7660-2443392
BEGIN:VALARM
ACTION:DISPLAY
DESCRIPTION:Paket 1/2 nicht vollständig!!
TRIGGER:-PT10M
END:VALARM
END:VEVENT
END:VCALENDAR