BEGIN:VCALENDAR
VERSION:2.0
PRODID:-//Goldgrube//myauktion.com//AT
CALSCALE:GREGORIAN
BEGIN:VEVENT
DTSTART:20260506T141400
DTEND:20260506T141430
LOCATION:Gewerbepark 13, 8562 Mooskirchen
DTSTAMP:20260423T011956
SUMMARY:MyAuktion: Ablauf Artikel Nr. 957928 Nachttisch Farbe Cream Platte Mamor Optik ca 51x45 cm  
URL;VALUE=URI:https://www.myauktion.com/versteigerung7660-position2443394-nachttisch-farbe-cream-platte-mamor-optik-ca-51x45-cm.php
DESCRIPTION:
UID:myauktion-7660-2443394
BEGIN:VALARM
ACTION:DISPLAY
DESCRIPTION:
TRIGGER:-PT10M
END:VALARM
END:VEVENT
END:VCALENDAR