BEGIN:VCALENDAR
VERSION:2.0
PRODID:-//Goldgrube//myauktion.com//AT
CALSCALE:GREGORIAN
BEGIN:VEVENT
DTSTART:20260506T150100
DTEND:20260506T150130
LOCATION:Gewerbepark 13, 8562 Mooskirchen
DTSTAMP:20260423T041112
SUMMARY:MyAuktion: Ablauf Artikel Nr. 958043 Narobi sideboard green NAI150C 32871313 
URL;VALUE=URI:https://www.myauktion.com/versteigerung7660-position2443396-narobi-sideboard-green-nai150c-32871313.php
DESCRIPTION:Verpackung beschädigt 
UID:myauktion-7660-2443396
BEGIN:VALARM
ACTION:DISPLAY
DESCRIPTION:Verpackung beschädigt 
TRIGGER:-PT10M
END:VALARM
END:VEVENT
END:VCALENDAR