BEGIN:VCALENDAR
VERSION:2.0
PRODID:-//Goldgrube//myauktion.com//AT
CALSCALE:GREGORIAN
BEGIN:VEVENT
DTSTART:20260506T154700
DTEND:20260506T154730
LOCATION:Gewerbepark 13, 8562 Mooskirchen
DTSTAMP:20260423T041113
SUMMARY:MyAuktion: Ablauf Artikel Nr. 958409 Midyou Bürostuhl Model Leone ca 73×75x84cm Creme Farben, Art.No 19980072-01
URL;VALUE=URI:https://www.myauktion.com/versteigerung7660-position2443397-midyou-buerostuhl-model-leone-ca-7375x84cm-creme-farben-artno-19980072-01.php
DESCRIPTION:
UID:myauktion-7660-2443397
BEGIN:VALARM
ACTION:DISPLAY
DESCRIPTION:
TRIGGER:-PT10M
END:VALARM
END:VEVENT
END:VCALENDAR