BEGIN:VCALENDAR
VERSION:2.0
PRODID:-//Goldgrube//myauktion.com//AT
CALSCALE:GREGORIAN
BEGIN:VEVENT
DTSTART:20260506T150200
DTEND:20260506T150230
LOCATION:Gewerbepark 13, 8562 Mooskirchen
DTSTAMP:20260423T041112
SUMMARY:MyAuktion: Ablauf Artikel Nr. 958044 Baby Born 2Stk + Zubehör 
URL;VALUE=URI:https://www.myauktion.com/versteigerung7660-position2443398-baby-born-2stk-zubehoer.php
DESCRIPTION:Gebraucht, verschmutzt 
UID:myauktion-7660-2443398
BEGIN:VALARM
ACTION:DISPLAY
DESCRIPTION:Gebraucht, verschmutzt 
TRIGGER:-PT10M
END:VALARM
END:VEVENT
END:VCALENDAR