BEGIN:VCALENDAR
VERSION:2.0
PRODID:-//Goldgrube//myauktion.com//AT
CALSCALE:GREGORIAN
BEGIN:VEVENT
DTSTART:20260506T132600
DTEND:20260506T132630
LOCATION:Gewerbepark 13, 8562 Mooskirchen
DTSTAMP:20260423T011959
SUMMARY:MyAuktion: Ablauf Artikel Nr. 957619 Home Creation Faltbare Aufbewahrzngsbox 
URL;VALUE=URI:https://www.myauktion.com/versteigerung7660-position2443401-home-creation-faltbare-aufbewahrzngsbox.php
DESCRIPTION:
UID:myauktion-7660-2443401
BEGIN:VALARM
ACTION:DISPLAY
DESCRIPTION:
TRIGGER:-PT10M
END:VALARM
END:VEVENT
END:VCALENDAR