BEGIN:VCALENDAR
VERSION:2.0
PRODID:-//Goldgrube//myauktion.com//AT
CALSCALE:GREGORIAN
BEGIN:VEVENT
DTSTART:20260506T141600
DTEND:20260506T141630
LOCATION:Gewerbepark 13, 8562 Mooskirchen
DTSTAMP:20260423T011953
SUMMARY:MyAuktion: Ablauf Artikel Nr. 957929 Dolan Velours Decke ca 117x143cm 
URL;VALUE=URI:https://www.myauktion.com/versteigerung7660-position2443402-dolan-velours-decke-ca-117x143cm.php
DESCRIPTION:
UID:myauktion-7660-2443402
BEGIN:VALARM
ACTION:DISPLAY
DESCRIPTION:
TRIGGER:-PT10M
END:VALARM
END:VEVENT
END:VCALENDAR