BEGIN:VCALENDAR
VERSION:2.0
PRODID:-//Goldgrube//myauktion.com//AT
CALSCALE:GREGORIAN
BEGIN:VEVENT
DTSTART:20260506T150400
DTEND:20260506T150430
LOCATION:Gewerbepark 13, 8562 Mooskirchen
DTSTAMP:20260423T053654
SUMMARY:MyAuktion: Ablauf Artikel Nr. 958046 Unimat Espressomaschine UEM-01 
URL;VALUE=URI:https://www.myauktion.com/versteigerung7660-position2443403-unimat-espressomaschine-uem-01.php
DESCRIPTION:Gebraucht, verschmutzt, Funktion nicht getestet 
UID:myauktion-7660-2443403
BEGIN:VALARM
ACTION:DISPLAY
DESCRIPTION:Gebraucht, verschmutzt, Funktion nicht getestet 
TRIGGER:-PT10M
END:VALARM
END:VEVENT
END:VCALENDAR