BEGIN:VCALENDAR
VERSION:2.0
PRODID:-//Goldgrube//myauktion.com//AT
CALSCALE:GREGORIAN
BEGIN:VEVENT
DTSTART:20260506T132900
DTEND:20260506T132930
LOCATION:Gewerbepark 13, 8562 Mooskirchen
DTSTAMP:20260423T011952
SUMMARY:MyAuktion: Ablauf Artikel Nr. 957622 Sodastream Wassersprudler Duo 
URL;VALUE=URI:https://www.myauktion.com/versteigerung7660-position2443407-sodastream-wassersprudler-duo.php
DESCRIPTION:Gebraucht ,funktion nicht geprüft
UID:myauktion-7660-2443407
BEGIN:VALARM
ACTION:DISPLAY
DESCRIPTION:Gebraucht ,funktion nicht geprüft
TRIGGER:-PT10M
END:VALARM
END:VEVENT
END:VCALENDAR