BEGIN:VCALENDAR
VERSION:2.0
PRODID:-//Goldgrube//myauktion.com//AT
CALSCALE:GREGORIAN
BEGIN:VEVENT
DTSTART:20260506T154900
DTEND:20260506T154930
LOCATION:Gewerbepark 13, 8562 Mooskirchen
DTSTAMP:20260423T041109
SUMMARY:MyAuktion: Ablauf Artikel Nr. 958411 Reflektor Rucksack in Lila ca 46×32cm
URL;VALUE=URI:https://www.myauktion.com/versteigerung7660-position2443408-reflektor-rucksack-in-lila-ca-4632cm.php
DESCRIPTION:Beschädigt, gebraucht
UID:myauktion-7660-2443408
BEGIN:VALARM
ACTION:DISPLAY
DESCRIPTION:Beschädigt, gebraucht
TRIGGER:-PT10M
END:VALARM
END:VEVENT
END:VCALENDAR