BEGIN:VCALENDAR
VERSION:2.0
PRODID:-//Goldgrube//myauktion.com//AT
CALSCALE:GREGORIAN
BEGIN:VEVENT
DTSTART:20260506T141900
DTEND:20260506T141930
LOCATION:Gewerbepark 13, 8562 Mooskirchen
DTSTAMP:20260423T011955
SUMMARY:MyAuktion: Ablauf Artikel Nr. 957931 Adidas Reisetasche ca 32x66cm 
URL;VALUE=URI:https://www.myauktion.com/versteigerung7660-position2443410-adidas-reisetasche-ca-32x66cm.php
DESCRIPTION:Gebraucht 
UID:myauktion-7660-2443410
BEGIN:VALARM
ACTION:DISPLAY
DESCRIPTION:Gebraucht 
TRIGGER:-PT10M
END:VALARM
END:VEVENT
END:VCALENDAR