BEGIN:VCALENDAR
VERSION:2.0
PRODID:-//Goldgrube//myauktion.com//AT
CALSCALE:GREGORIAN
BEGIN:VEVENT
DTSTART:20260506T133100
DTEND:20260506T133130
LOCATION:Gewerbepark 13, 8562 Mooskirchen
DTSTAMP:20260423T003137
SUMMARY:MyAuktion: Ablauf Artikel Nr. 957624 Bambu Lab A1
URL;VALUE=URI:https://www.myauktion.com/versteigerung7660-position2443412-bambu-lab-a1.php
DESCRIPTION:
UID:myauktion-7660-2443412
BEGIN:VALARM
ACTION:DISPLAY
DESCRIPTION:
TRIGGER:-PT10M
END:VALARM
END:VEVENT
END:VCALENDAR