BEGIN:VCALENDAR
VERSION:2.0
PRODID:-//Goldgrube//myauktion.com//AT
CALSCALE:GREGORIAN
BEGIN:VEVENT
DTSTART:20260506T150600
DTEND:20260506T150630
LOCATION:Gewerbepark 13, 8562 Mooskirchen
DTSTAMP:20260423T041110
SUMMARY:MyAuktion: Ablauf Artikel Nr. 958049 Lamar Langhantelset LHS2000 20kg 
URL;VALUE=URI:https://www.myauktion.com/versteigerung7660-position2443413-lamar-langhantelset-lhs2000-20kg.php
DESCRIPTION:
UID:myauktion-7660-2443413
BEGIN:VALARM
ACTION:DISPLAY
DESCRIPTION:
TRIGGER:-PT10M
END:VALARM
END:VEVENT
END:VCALENDAR