BEGIN:VCALENDAR
VERSION:2.0
PRODID:-//Goldgrube//myauktion.com//AT
CALSCALE:GREGORIAN
BEGIN:VEVENT
DTSTART:20260506T155000
DTEND:20260506T155030
LOCATION:Gewerbepark 13, 8562 Mooskirchen
DTSTAMP:20260423T053654
SUMMARY:MyAuktion: Ablauf Artikel Nr. 958413 Ledó Gerte ca 64cm 
URL;VALUE=URI:https://www.myauktion.com/versteigerung7660-position2443414-led-gerte-ca-64cm.php
DESCRIPTION:
UID:myauktion-7660-2443414
BEGIN:VALARM
ACTION:DISPLAY
DESCRIPTION:
TRIGGER:-PT10M
END:VALARM
END:VEVENT
END:VCALENDAR