BEGIN:VCALENDAR
VERSION:2.0
PRODID:-//Goldgrube//myauktion.com//AT
CALSCALE:GREGORIAN
BEGIN:VEVENT
DTSTART:20260506T133200
DTEND:20260506T133230
LOCATION:Gewerbepark 13, 8562 Mooskirchen
DTSTAMP:20260423T011954
SUMMARY:MyAuktion: Ablauf Artikel Nr. 957625 Whiteboard  60x90cm 
URL;VALUE=URI:https://www.myauktion.com/versteigerung7660-position2443415-whiteboard-60x90cm.php
DESCRIPTION:Beschädigt 
UID:myauktion-7660-2443415
BEGIN:VALARM
ACTION:DISPLAY
DESCRIPTION:Beschädigt 
TRIGGER:-PT10M
END:VALARM
END:VEVENT
END:VCALENDAR