BEGIN:VCALENDAR
VERSION:2.0
PRODID:-//Goldgrube//myauktion.com//AT
CALSCALE:GREGORIAN
BEGIN:VEVENT
DTSTART:20260506T150700
DTEND:20260506T150730
LOCATION:Gewerbepark 13, 8562 Mooskirchen
DTSTAMP:20260423T041110
SUMMARY:MyAuktion: Ablauf Artikel Nr. 958050 Orfit Eco Mini Perforated 60x90cmx3,2mm 4Stk 
URL;VALUE=URI:https://www.myauktion.com/versteigerung7660-position2443416-orfit-eco-mini-perforated-60x90cmx32mm-4stk.php
DESCRIPTION:MHD 31.01.2030
UID:myauktion-7660-2443416
BEGIN:VALARM
ACTION:DISPLAY
DESCRIPTION:MHD 31.01.2030
TRIGGER:-PT10M
END:VALARM
END:VEVENT
END:VCALENDAR