BEGIN:VCALENDAR
VERSION:2.0
PRODID:-//Goldgrube//myauktion.com//AT
CALSCALE:GREGORIAN
BEGIN:VEVENT
DTSTART:20260506T142000
DTEND:20260506T142030
LOCATION:Gewerbepark 13, 8562 Mooskirchen
DTSTAMP:20260423T041110
SUMMARY:MyAuktion: Ablauf Artikel Nr. 957932 Eurodis Navigo operative UPH Bürostuhl Schwarz Art.Nr: 615507 
URL;VALUE=URI:https://www.myauktion.com/versteigerung7660-position2443419-eurodis-navigo-operative-uph-buerostuhl-schwarz-artnr-615507.php
DESCRIPTION:
UID:myauktion-7660-2443419
BEGIN:VALARM
ACTION:DISPLAY
DESCRIPTION:
TRIGGER:-PT10M
END:VALARM
END:VEVENT
END:VCALENDAR