BEGIN:VCALENDAR
VERSION:2.0
PRODID:-//Goldgrube//myauktion.com//AT
CALSCALE:GREGORIAN
BEGIN:VEVENT
DTSTART:20260506T151000
DTEND:20260506T151030
LOCATION:Gewerbepark 13, 8562 Mooskirchen
DTSTAMP:20260423T041110
SUMMARY:MyAuktion: Ablauf Artikel Nr. 958052 Quooker Tank+Tap Flex Round SST TFLE42F00132 PRO3BDE 
URL;VALUE=URI:https://www.myauktion.com/versteigerung7660-position2443420-quooker-tank-tap-flex-round-sst-tfle42f00132-pro3bde.php
DESCRIPTION:
UID:myauktion-7660-2443420
BEGIN:VALARM
ACTION:DISPLAY
DESCRIPTION:
TRIGGER:-PT10M
END:VALARM
END:VEVENT
END:VCALENDAR