BEGIN:VCALENDAR
VERSION:2.0
PRODID:-//Goldgrube//myauktion.com//AT
CALSCALE:GREGORIAN
BEGIN:VEVENT
DTSTART:20260506T151100
DTEND:20260506T151130
LOCATION:Gewerbepark 13, 8562 Mooskirchen
DTSTAMP:20260423T041112
SUMMARY:MyAuktion: Ablauf Artikel Nr. 958053 Mikamax Couch Caddy 45x27x9cm 
URL;VALUE=URI:https://www.myauktion.com/versteigerung7660-position2443422-mikamax-couch-caddy-45x27x9cm.php
DESCRIPTION:
UID:myauktion-7660-2443422
BEGIN:VALARM
ACTION:DISPLAY
DESCRIPTION:
TRIGGER:-PT10M
END:VALARM
END:VEVENT
END:VCALENDAR