BEGIN:VCALENDAR
VERSION:2.0
PRODID:-//Goldgrube//myauktion.com//AT
CALSCALE:GREGORIAN
BEGIN:VEVENT
DTSTART:20260506T151500
DTEND:20260506T151530
LOCATION:Gewerbepark 13, 8562 Mooskirchen
DTSTAMP:20260423T041110
SUMMARY:MyAuktion: Ablauf Artikel Nr. 958054 Hofstein Stehleuchte Venor H3967485 
URL;VALUE=URI:https://www.myauktion.com/versteigerung7660-position2443424-hofstein-stehleuchte-venor-h3967485.php
DESCRIPTION:
UID:myauktion-7660-2443424
BEGIN:VALARM
ACTION:DISPLAY
DESCRIPTION:
TRIGGER:-PT10M
END:VALARM
END:VEVENT
END:VCALENDAR