BEGIN:VCALENDAR
VERSION:2.0
PRODID:-//Goldgrube//myauktion.com//AT
CALSCALE:GREGORIAN
BEGIN:VEVENT
DTSTART:20260506T155200
DTEND:20260506T155230
LOCATION:Gewerbepark 13, 8562 Mooskirchen
DTSTAMP:20260423T041110
SUMMARY:MyAuktion: Ablauf Artikel Nr. 958415 Rollo 1.370mm breit, 1.700mm hoch, Art.No. 11874613/400
URL;VALUE=URI:https://www.myauktion.com/versteigerung7660-position2443425-rollo-1370mm-breit-1700mm-hoch-artno-11874613-400.php
DESCRIPTION:
UID:myauktion-7660-2443425
BEGIN:VALARM
ACTION:DISPLAY
DESCRIPTION:
TRIGGER:-PT10M
END:VALARM
END:VEVENT
END:VCALENDAR