BEGIN:VCALENDAR
VERSION:2.0
PRODID:-//Goldgrube//myauktion.com//AT
CALSCALE:GREGORIAN
BEGIN:VEVENT
DTSTART:20260506T155300
DTEND:20260506T155330
LOCATION:Gewerbepark 13, 8562 Mooskirchen
DTSTAMP:20260423T041111
SUMMARY:MyAuktion: Ablauf Artikel Nr. 958416 Achsträger für Pkw der Marke Volkswagen, ca 117x50cm
URL;VALUE=URI:https://www.myauktion.com/versteigerung7660-position2443429-achstraeger-fuer-pkw-der-marke-volkswagen-ca-117x50cm.php
DESCRIPTION:
UID:myauktion-7660-2443429
BEGIN:VALARM
ACTION:DISPLAY
DESCRIPTION:
TRIGGER:-PT10M
END:VALARM
END:VEVENT
END:VCALENDAR