BEGIN:VCALENDAR
VERSION:2.0
PRODID:-//Goldgrube//myauktion.com//AT
CALSCALE:GREGORIAN
BEGIN:VEVENT
DTSTART:20260506T151800
DTEND:20260506T151830
LOCATION:Gewerbepark 13, 8562 Mooskirchen
DTSTAMP:20260423T053654
SUMMARY:MyAuktion: Ablauf Artikel Nr. 958057 Collapsible Driving Rack black XL 
URL;VALUE=URI:https://www.myauktion.com/versteigerung7660-position2443431-collapsible-driving-rack-black-xl.php
DESCRIPTION:Verpackung beschädigt 
UID:myauktion-7660-2443431
BEGIN:VALARM
ACTION:DISPLAY
DESCRIPTION:Verpackung beschädigt 
TRIGGER:-PT10M
END:VALARM
END:VEVENT
END:VCALENDAR